BEGIN:VCALENDAR
VERSION:2.0
PRODID:-//bettyringeisen.com - ECPv6.15.20//NONSGML v1.0//EN
CALSCALE:GREGORIAN
METHOD:PUBLISH
X-WR-CALNAME:bettyringeisen.com
X-ORIGINAL-URL:https://bettyringeisen.com
X-WR-CALDESC:Events for bettyringeisen.com
REFRESH-INTERVAL;VALUE=DURATION:PT1H
X-Robots-Tag:noindex
X-PUBLISHED-TTL:PT1H
BEGIN:VTIMEZONE
TZID:America/New_York
BEGIN:DAYLIGHT
TZOFFSETFROM:-0500
TZOFFSETTO:-0400
TZNAME:EDT
DTSTART:20200308T070000
END:DAYLIGHT
BEGIN:STANDARD
TZOFFSETFROM:-0400
TZOFFSETTO:-0500
TZNAME:EST
DTSTART:20201101T060000
END:STANDARD
BEGIN:DAYLIGHT
TZOFFSETFROM:-0500
TZOFFSETTO:-0400
TZNAME:EDT
DTSTART:20210314T070000
END:DAYLIGHT
BEGIN:STANDARD
TZOFFSETFROM:-0400
TZOFFSETTO:-0500
TZNAME:EST
DTSTART:20211107T060000
END:STANDARD
BEGIN:DAYLIGHT
TZOFFSETFROM:-0500
TZOFFSETTO:-0400
TZNAME:EDT
DTSTART:20220313T070000
END:DAYLIGHT
BEGIN:STANDARD
TZOFFSETFROM:-0400
TZOFFSETTO:-0500
TZNAME:EST
DTSTART:20221106T060000
END:STANDARD
BEGIN:DAYLIGHT
TZOFFSETFROM:-0500
TZOFFSETTO:-0400
TZNAME:EDT
DTSTART:20230312T070000
END:DAYLIGHT
BEGIN:STANDARD
TZOFFSETFROM:-0400
TZOFFSETTO:-0500
TZNAME:EST
DTSTART:20231105T060000
END:STANDARD
BEGIN:DAYLIGHT
TZOFFSETFROM:-0500
TZOFFSETTO:-0400
TZNAME:EDT
DTSTART:20240310T070000
END:DAYLIGHT
BEGIN:STANDARD
TZOFFSETFROM:-0400
TZOFFSETTO:-0500
TZNAME:EST
DTSTART:20241103T060000
END:STANDARD
BEGIN:DAYLIGHT
TZOFFSETFROM:-0500
TZOFFSETTO:-0400
TZNAME:EDT
DTSTART:20250309T070000
END:DAYLIGHT
BEGIN:STANDARD
TZOFFSETFROM:-0400
TZOFFSETTO:-0500
TZNAME:EST
DTSTART:20251102T060000
END:STANDARD
BEGIN:DAYLIGHT
TZOFFSETFROM:-0500
TZOFFSETTO:-0400
TZNAME:EDT
DTSTART:20260308T070000
END:DAYLIGHT
BEGIN:STANDARD
TZOFFSETFROM:-0400
TZOFFSETTO:-0500
TZNAME:EST
DTSTART:20261101T060000
END:STANDARD
END:VTIMEZONE
BEGIN:VEVENT
DTSTART;TZID=America/New_York:20250222T083000
DTEND;TZID=America/New_York:20250222T173000
DTSTAMP:20260423T174045
CREATED:20250122T234051Z
LAST-MODIFIED:20260214T183742Z
UID:535-1740213000-1740245400@bettyringeisen.com
SUMMARY:The Immanuel Experience
DESCRIPTION:The Immanuel Experience\nA one-day retreat designed to renew your spirit\, transform your soul\, and guide you down the path to permanent healing.\nThe Immanuel Experience will help you:\n• Reestablish your connection to God\n• Embrace your identity as his son/daughter\n• Be refreshed\, renewed and transformed\nThe Immanuel Experience is a retreat that will reconnect you to God\, others and yourself.\nJoin us on February 22 from 8:30-5:30 at:\nWaverly Springs Historical Farm\n16001 Old Waterford Road\nWaterford\, Virginia.\nWe will serve soup and salad for lunch. The charge for lunch will be $15.00. You are also welcome to bring your own lunch. Coffee and tea will be available throughout the day.\nThere are a limited number of spaces for this retreat. Register early.
URL:https://bettyringeisen.com/event/the-immanuel-experience/
LOCATION:The Burn House\, 109 Harrison NE\, Leesburg\, VA\, United States
END:VEVENT
BEGIN:VEVENT
DTSTART;TZID=America/New_York:20230717T190000
DTEND;TZID=America/New_York:20230717T210000
DTSTAMP:20260423T174045
CREATED:20230710T221737Z
LAST-MODIFIED:20230714T144016Z
UID:435-1689620400-1689627600@bettyringeisen.com
SUMMARY:Healing the Father Wound
DESCRIPTION:← Back Thank you for your response. ✨\n\n\n					\n						\n							\n							\n						\n						\n						\n						\n						\n							\n								\n									\n										\n										\n									\n									\n										\n										\n									\n								\n							\n						\n						\n							\n								\n									\n									\n										\n									\n									\n									\n								\n							\n						\n					\n				\n\n\n\nName(required)\n\n \n			\n				\n					\n						\n						\n						\n					\n				\n				\n			 \n	\n\n\nEmail(required)\n\n \n			\n				\n					\n						\n						\n						\n					\n				\n				\n			 \n	\n\n\nWebsite\n\n \n			\n				\n					\n						\n						\n						\n					\n				\n				\n			 \n	\n\n\nMessage\n\n \n			\n				\n					\n						\n						\n						\n					\n				\n				\n			\n	\n	\n\n				\n					\n				\n						Submit		\n		\n		\n	 \n\n\nRegister for my upcoming webinar on Healing the Father Wound. I’m excited to be with you on Monday\, July 17th at 7 PM EST. \nLogin information to follow via email. Please check your spam folder if you do not get a confirmation.
URL:https://bettyringeisen.com/event/healing-the-father-wound/
LOCATION:webinar
CATEGORIES:webinar
ATTACH;FMTTYPE=image/jpeg:https://bettyringeisen.com/wp-content/uploads/2023/07/IMG_8589.jpeg
END:VEVENT
BEGIN:VEVENT
DTSTART;TZID=America/New_York:20210904T170000
DTEND;TZID=America/New_York:20210904T190000
DTSTAMP:20260423T174045
CREATED:20230710T232314Z
LAST-MODIFIED:20230714T144029Z
UID:454-1630774800-1630782000@bettyringeisen.com
SUMMARY:Setting the Orphan Free
DESCRIPTION:
URL:https://bettyringeisen.com/event/speaking/
LOCATION:Church of the Holy Spirit\, 908 Trailview Blvd SE\, STE 200\, Leesburg\, VA\, 20175\, United States
CATEGORIES:speaking
END:VEVENT
END:VCALENDAR