BEGIN:VCALENDAR
VERSION:2.0
PRODID:-//bettyringeisen.com - ECPv6.15.20//NONSGML v1.0//EN
CALSCALE:GREGORIAN
METHOD:PUBLISH
X-WR-CALNAME:bettyringeisen.com
X-ORIGINAL-URL:https://bettyringeisen.com
X-WR-CALDESC:Events for bettyringeisen.com
REFRESH-INTERVAL;VALUE=DURATION:PT1H
X-Robots-Tag:noindex
X-PUBLISHED-TTL:PT1H
BEGIN:VTIMEZONE
TZID:America/New_York
BEGIN:DAYLIGHT
TZOFFSETFROM:-0500
TZOFFSETTO:-0400
TZNAME:EDT
DTSTART:20240310T070000
END:DAYLIGHT
BEGIN:STANDARD
TZOFFSETFROM:-0400
TZOFFSETTO:-0500
TZNAME:EST
DTSTART:20241103T060000
END:STANDARD
BEGIN:DAYLIGHT
TZOFFSETFROM:-0500
TZOFFSETTO:-0400
TZNAME:EDT
DTSTART:20250309T070000
END:DAYLIGHT
BEGIN:STANDARD
TZOFFSETFROM:-0400
TZOFFSETTO:-0500
TZNAME:EST
DTSTART:20251102T060000
END:STANDARD
BEGIN:DAYLIGHT
TZOFFSETFROM:-0500
TZOFFSETTO:-0400
TZNAME:EDT
DTSTART:20260308T070000
END:DAYLIGHT
BEGIN:STANDARD
TZOFFSETFROM:-0400
TZOFFSETTO:-0500
TZNAME:EST
DTSTART:20261101T060000
END:STANDARD
END:VTIMEZONE
BEGIN:VEVENT
DTSTART;VALUE=DATE:20251025
DTEND;VALUE=DATE:20251026
DTSTAMP:20260423T202722
CREATED:20250725T120018Z
LAST-MODIFIED:20251101T130253Z
UID:578-1761350400-1761436799@bettyringeisen.com
SUMMARY:The Immanuel Experience
DESCRIPTION:A one-day retreat to renew your spirit\, transform your soul\, and walk with God toward lasting healing. \nWhat to Expect:\nDuring this sacred day\, you will: \n\n\nReestablish your connection with God in a safe\, prayerful environment. \n\n\nEmbrace your identity as His beloved son or daughter. \n\n\nExperience refreshment\, renewal\, and transformation through guided teaching\, prayer\, and reflection. \n\n\nReconnect with God\, others\, and your true self. \n\n\nRetreat Details:\nDate: Saturday\, October 25Time: 8:00 AM – 5:30 PMLocation:Waverly Springs Historical Farm16001 Old Waterford RoadWaterford\, Virginia \nHospitality:\n\n\nA special lunch prepared by Chef Tarver King ($20 per person). \n\n\nYou are welcome to bring your own lunch if you prefer. \n\n\nCoffee and tea available throughout the day. \n\n\nRegistration:\nSpaces are limited\, so reserve your spot early.
URL:https://bettyringeisen.com/event/the-immanuel-experience-3/
END:VEVENT
END:VCALENDAR